BEGIN:VCALENDAR
VERSION:2.0
PRODID:-//Contratero//ES
CALSCALE:GREGORIAN
METHOD:PUBLISH
BEGIN:VEVENT
UID:NSP 1441@contratero.es
DTSTAMP:20260420T084109Z
DTSTART:20251106T235959
DTEND:20251107T005959
SUMMARY:Cierre: El objeto del presente contrato es la contratación
DESCRIPTION:El objeto del presente contrato es la contratación del servicio informático de gestión policial\, destinado a la Policía Local del Ayuntamiento de Astorga\, mediante la solución integrada EUROCOP\,\\n\\nOrganismo: Alcaldía del Ayuntamiento de Astorga\\n\\nVer en Contratero: https://contratero.es/contracts/NSP 1441
URL:https://contratero.es/contracts/NSP 1441
STATUS:CONFIRMED
BEGIN:VALARM
TRIGGER:-P1D
ACTION:DISPLAY
DESCRIPTION:Recordatorio: El objeto del presente contrat
END:VALARM
END:VEVENT
END:VCALENDAR